BEGIN:VCALENDAR
VERSION:2.0
CALSCALE:GREGORIAN
PRODID:-//Diputació de Barcelona//DibaCMS//EN
BEGIN:VEVENT
UID:22210
DTSTAMP:20260425T034218
DTSTART:20090110T120000
DTEND:20090110T000000
SUMMARY:CFS Piera A-FC OCB
LOCATION:
METHOD:PUBLISH
X-WR-CALNAME:e-seu@ajpiera.cat
X-WR-TIMEZONE:Europe/Madrid
DESCRIPTION:CFS Piera A-FC OCB
URI:https://www.viladepiera.cat/actualitat/agenda/cfs-piera-a-fc-ocb.html
CLASS:PUBLIC
END:VEVENT
END:VCALENDAR
