BEGIN:VCALENDAR
VERSION:2.0
CALSCALE:GREGORIAN
PRODID:-//Diputació de Barcelona//DibaCMS//EN
BEGIN:VEVENT
UID:22214
DTSTAMP:20260425T021203
DTSTART:20090111T120000
DTEND:20090111T000000
SUMMARY:AE Piera-Moja
LOCATION:
METHOD:PUBLISH
X-WR-CALNAME:e-seu@ajpiera.cat
X-WR-TIMEZONE:Europe/Madrid
DESCRIPTION:AE Piera-Moja
URI:https://www.viladepiera.cat/actualitat/agenda/ae-piera-moja.html
CLASS:PUBLIC
END:VEVENT
END:VCALENDAR
