BEGIN:VCALENDAR
VERSION:2.0
CALSCALE:GREGORIAN
PRODID:-//Diputació de Barcelona//DibaCMS//EN
BEGIN:VEVENT
UID:22218
DTSTAMP:20260425T034618
DTSTART:20090114T190000
DTEND:20090114T000000
SUMMARY:La nova cultura de l'aigua
LOCATION:
METHOD:PUBLISH
X-WR-CALNAME:e-seu@ajpiera.cat
X-WR-TIMEZONE:Europe/Madrid
DESCRIPTION:La nova cultura de l'aigua
URI:https://www.viladepiera.cat/actualitat/agenda/la-nova-cultura-de-laigua.html
CLASS:PUBLIC
END:VEVENT
END:VCALENDAR
