BEGIN:VCALENDAR
VERSION:2.0
CALSCALE:GREGORIAN
PRODID:-//Diputació de Barcelona//DibaCMS//EN
BEGIN:VEVENT
UID:22223
DTSTAMP:20260425T123445
DTSTART:20090117T150000
DTEND:20090117T000000
SUMMARY:HC Piera-Capellades HC
LOCATION:
METHOD:PUBLISH
X-WR-CALNAME:e-seu@ajpiera.cat
X-WR-TIMEZONE:Europe/Madrid
DESCRIPTION:HC Piera-Capellades HC
URI:https://www.viladepiera.cat/actualitat/agenda/22223-hc-piera-capellades-hc.html
CLASS:PUBLIC
END:VEVENT
END:VCALENDAR
