BEGIN:VCALENDAR
VERSION:2.0
CALSCALE:GREGORIAN
PRODID:-//Diputació de Barcelona//DibaCMS//EN
BEGIN:VEVENT
UID:22227
DTSTAMP:20260425T194540
DTSTART:20090117T190000
DTEND:20090117T000000
SUMMARY:HC Piera-HC Esplugues
LOCATION:
METHOD:PUBLISH
X-WR-CALNAME:e-seu@ajpiera.cat
X-WR-TIMEZONE:Europe/Madrid
DESCRIPTION:HC Piera-HC Esplugues
URI:https://www.viladepiera.cat/actualitat/agenda/hc-piera-hc-esplugues.html
CLASS:PUBLIC
END:VEVENT
END:VCALENDAR
