BEGIN:VCALENDAR
VERSION:2.0
CALSCALE:GREGORIAN
PRODID:-//Diputació de Barcelona//DibaCMS//EN
BEGIN:VEVENT
UID:22231
DTSTAMP:20260425T143859
DTSTART:20090118T101500
DTEND:20090118T000000
SUMMARY:AE Piera-Sant Maure
LOCATION:
METHOD:PUBLISH
X-WR-CALNAME:e-seu@ajpiera.cat
X-WR-TIMEZONE:Europe/Madrid
DESCRIPTION:AE Piera-Sant Maure
URI:https://www.viladepiera.cat/actualitat/agenda/22231-ae-piera-sant-maure.html
CLASS:PUBLIC
END:VEVENT
END:VCALENDAR
