BEGIN:VCALENDAR
VERSION:2.0
CALSCALE:GREGORIAN
PRODID:-//Diputació de Barcelona//DibaCMS//EN
BEGIN:VEVENT
UID:22235
DTSTAMP:20260425T201244
DTSTART:20090119T180000
DTEND:20090119T000000
SUMMARY:Presentació II Marató
LOCATION:
METHOD:PUBLISH
X-WR-CALNAME:e-seu@ajpiera.cat
X-WR-TIMEZONE:Europe/Madrid
DESCRIPTION:Presentació II Marató
URI:https://www.viladepiera.cat/actualitat/agenda/presentacio-ii-marato.html
CLASS:PUBLIC
END:VEVENT
END:VCALENDAR
