BEGIN:VCALENDAR
VERSION:2.0
CALSCALE:GREGORIAN
PRODID:-//Diputació de Barcelona//DibaCMS//EN
BEGIN:VEVENT
UID:22237
DTSTAMP:20260425T154805
DTSTART:20090120T183000
DTEND:20090120T000000
SUMMARY:El bosc de les guineus
LOCATION:
METHOD:PUBLISH
X-WR-CALNAME:e-seu@ajpiera.cat
X-WR-TIMEZONE:Europe/Madrid
DESCRIPTION:El bosc de les guineus
URI:https://www.viladepiera.cat/actualitat/agenda/el-bosc-de-les-guineus.html
CLASS:PUBLIC
END:VEVENT
END:VCALENDAR
