BEGIN:VCALENDAR
VERSION:2.0
CALSCALE:GREGORIAN
PRODID:-//Diputació de Barcelona//DibaCMS//EN
BEGIN:VEVENT
UID:22240
DTSTAMP:20260425T021738
DTSTART:20090124T100000
DTEND:20090124T000000
SUMMARY:AE Piera-Base Olèrdola
LOCATION:
METHOD:PUBLISH
X-WR-CALNAME:e-seu@ajpiera.cat
X-WR-TIMEZONE:Europe/Madrid
DESCRIPTION:AE Piera-Base Olèrdola
URI:https://www.viladepiera.cat/actualitat/agenda/22240-ae-piera-base-olerdola.html
CLASS:PUBLIC
END:VEVENT
END:VCALENDAR
