BEGIN:VCALENDAR
VERSION:2.0
CALSCALE:GREGORIAN
PRODID:-//Diputació de Barcelona//DibaCMS//EN
BEGIN:VEVENT
UID:22241
DTSTAMP:20260425T012250
DTSTART:20090124T160000
DTEND:20090124T000000
SUMMARY:HC Piera-CP Masquefa
LOCATION:
METHOD:PUBLISH
X-WR-CALNAME:e-seu@ajpiera.cat
X-WR-TIMEZONE:Europe/Madrid
DESCRIPTION:HC Piera-CP Masquefa
URI:https://www.viladepiera.cat/actualitat/agenda/22241-hc-piera-cp-masquefa.html
CLASS:PUBLIC
END:VEVENT
END:VCALENDAR
