BEGIN:VCALENDAR
VERSION:2.0
CALSCALE:GREGORIAN
PRODID:-//Diputació de Barcelona//DibaCMS//EN
BEGIN:VEVENT
UID:22242
DTSTAMP:20260425T033741
DTSTART:20090124T120000
DTEND:20090124T000000
SUMMARY:CFS Piera-PDM Street
LOCATION:
METHOD:PUBLISH
X-WR-CALNAME:e-seu@ajpiera.cat
X-WR-TIMEZONE:Europe/Madrid
DESCRIPTION:CFS Piera-PDM Street
URI:https://www.viladepiera.cat/actualitat/agenda/cfs-piera-pdm-street.html
CLASS:PUBLIC
END:VEVENT
END:VCALENDAR
