BEGIN:VCALENDAR
VERSION:2.0
CALSCALE:GREGORIAN
PRODID:-//Diputació de Barcelona//DibaCMS//EN
BEGIN:VEVENT
UID:22245
DTSTAMP:20260425T002148
DTSTART:20090125T101500
DTEND:20090125T000000
SUMMARY:AE Piera-L'Arboç CF
LOCATION:
METHOD:PUBLISH
X-WR-CALNAME:e-seu@ajpiera.cat
X-WR-TIMEZONE:Europe/Madrid
DESCRIPTION:AE Piera-L'Arboç CF
URI:https://www.viladepiera.cat/actualitat/agenda/ae-piera-larboc-cf.html
CLASS:PUBLIC
END:VEVENT
END:VCALENDAR
