BEGIN:VCALENDAR
VERSION:2.0
CALSCALE:GREGORIAN
PRODID:-//Diputació de Barcelona//DibaCMS//EN
BEGIN:VEVENT
UID:22247
DTSTAMP:20260425T034350
DTSTART:20090125T110000
DTEND:20090125T000000
SUMMARY:EC Piera-Sant Bonaventura SBV
LOCATION:
METHOD:PUBLISH
X-WR-CALNAME:e-seu@ajpiera.cat
X-WR-TIMEZONE:Europe/Madrid
DESCRIPTION:EC Piera-Sant Bonaventura SBV
URI:https://www.viladepiera.cat/actualitat/agenda/ec-piera-sant-bonaventura-sbv.html
CLASS:PUBLIC
END:VEVENT
END:VCALENDAR
