BEGIN:VCALENDAR
VERSION:2.0
CALSCALE:GREGORIAN
PRODID:-//Diputació de Barcelona//DibaCMS//EN
BEGIN:VEVENT
UID:22254
DTSTAMP:20260424T235901
DTSTART:20090131T113000
DTEND:20090131T000000
SUMMARY:AE Piera-Vilanova i la Geltrú
LOCATION:
METHOD:PUBLISH
X-WR-CALNAME:e-seu@ajpiera.cat
X-WR-TIMEZONE:Europe/Madrid
DESCRIPTION:AE Piera-Vilanova i la Geltrú
URI:https://www.viladepiera.cat/actualitat/agenda/ae-piera-vilanova-i-la-geltru.html
CLASS:PUBLIC
END:VEVENT
END:VCALENDAR
