BEGIN:VCALENDAR
VERSION:2.0
CALSCALE:GREGORIAN
PRODID:-//Diputació de Barcelona//DibaCMS//EN
BEGIN:VEVENT
UID:22255
DTSTAMP:20260425T000359
DTSTART:20090131T160000
DTEND:20090131T000000
SUMMARY:AE Piera-Masquefa
LOCATION:
METHOD:PUBLISH
X-WR-CALNAME:e-seu@ajpiera.cat
X-WR-TIMEZONE:Europe/Madrid
DESCRIPTION:AE Piera-Masquefa
URI:https://www.viladepiera.cat/actualitat/agenda/22255-ae-piera-masquefa.html
CLASS:PUBLIC
END:VEVENT
END:VCALENDAR
