BEGIN:VCALENDAR
VERSION:2.0
CALSCALE:GREGORIAN
PRODID:-//Diputació de Barcelona//DibaCMS//EN
BEGIN:VEVENT
UID:22258
DTSTAMP:20260425T000447
DTSTART:20090131T120000
DTEND:20090131T000000
SUMMARY:CFS Piera-PDM Street (Ajornat)
LOCATION:
METHOD:PUBLISH
X-WR-CALNAME:e-seu@ajpiera.cat
X-WR-TIMEZONE:Europe/Madrid
DESCRIPTION:CFS Piera-PDM Street (Ajornat)
URI:https://www.viladepiera.cat/actualitat/agenda/cfs-piera-pdm-street-ajornat.html
CLASS:PUBLIC
END:VEVENT
END:VCALENDAR
