BEGIN:VCALENDAR
VERSION:2.0
CALSCALE:GREGORIAN
PRODID:-//Diputació de Barcelona//DibaCMS//EN
BEGIN:VEVENT
UID:22260
DTSTAMP:20260425T000019
DTSTART:20090131T160000
DTEND:20090131T000000
SUMMARY:HC Piera-PHC Sant Cugat
LOCATION:
METHOD:PUBLISH
X-WR-CALNAME:e-seu@ajpiera.cat
X-WR-TIMEZONE:Europe/Madrid
DESCRIPTION:HC Piera-PHC Sant Cugat
URI:https://www.viladepiera.cat/actualitat/agenda/22260-hc-piera-phc-sant-cugat.html
CLASS:PUBLIC
END:VEVENT
END:VCALENDAR
