BEGIN:VCALENDAR
VERSION:2.0
CALSCALE:GREGORIAN
PRODID:-//Diputació de Barcelona//DibaCMS//EN
BEGIN:VEVENT
UID:22261
DTSTAMP:20260425T000136
DTSTART:20090131T180000
DTEND:20090131T000000
SUMMARY:HC Piera-CH Prat  
LOCATION:
METHOD:PUBLISH
X-WR-CALNAME:e-seu@ajpiera.cat
X-WR-TIMEZONE:Europe/Madrid
DESCRIPTION:HC Piera-CH Prat  
URI:https://www.viladepiera.cat/actualitat/agenda/hc-piera-ch-prat-.html
CLASS:PUBLIC
END:VEVENT
END:VCALENDAR
