BEGIN:VCALENDAR
VERSION:2.0
CALSCALE:GREGORIAN
PRODID:-//Diputació de Barcelona//DibaCMS//EN
BEGIN:VEVENT
UID:22262
DTSTAMP:20260425T011058
DTSTART:20090131T193000
DTEND:20090131T000000
SUMMARY:HC Piera-Calafell CP
LOCATION:
METHOD:PUBLISH
X-WR-CALNAME:e-seu@ajpiera.cat
X-WR-TIMEZONE:Europe/Madrid
DESCRIPTION:HC Piera-Calafell CP
URI:https://www.viladepiera.cat/actualitat/agenda/hc-piera-calafell-cp.html
CLASS:PUBLIC
END:VEVENT
END:VCALENDAR
