BEGIN:VCALENDAR
VERSION:2.0
CALSCALE:GREGORIAN
PRODID:-//Diputació de Barcelona//DibaCMS//EN
BEGIN:VEVENT
UID:22263
DTSTAMP:20260425T041433
DTSTART:20090131T000000
DTEND:20090131T000000
SUMMARY:Retransmissió del Ple
LOCATION:
METHOD:PUBLISH
X-WR-CALNAME:e-seu@ajpiera.cat
X-WR-TIMEZONE:Europe/Madrid
DESCRIPTION:Retransmissió del Ple
URI:https://www.viladepiera.cat/actualitat/agenda/retransmissio-del-ple.html
CLASS:PUBLIC
END:VEVENT
END:VCALENDAR
