BEGIN:VCALENDAR
VERSION:2.0
CALSCALE:GREGORIAN
PRODID:-//Diputació de Barcelona//DibaCMS//EN
BEGIN:VEVENT
UID:22268
DTSTAMP:20260425T042632
DTSTART:20090206T000000
DTEND:20090206T000000
SUMMARY:Concurs de pregons, carrosses i comparses
LOCATION:
METHOD:PUBLISH
X-WR-CALNAME:e-seu@ajpiera.cat
X-WR-TIMEZONE:Europe/Madrid
DESCRIPTION:Concurs de pregons, carrosses i comparses
URI:https://www.viladepiera.cat/actualitat/agenda/concurs-de-pregons-carrosses-i-comparses.html
CLASS:PUBLIC
END:VEVENT
END:VCALENDAR
