BEGIN:VCALENDAR
VERSION:2.0
CALSCALE:GREGORIAN
PRODID:-//Diputació de Barcelona//DibaCMS//EN
BEGIN:VEVENT
UID:22273
DTSTAMP:20260425T034547
DTSTART:20090211T123000
DTEND:20090211T000000
SUMMARY:Visita del bisbe Agustí Cortés
LOCATION:
METHOD:PUBLISH
X-WR-CALNAME:e-seu@ajpiera.cat
X-WR-TIMEZONE:Europe/Madrid
DESCRIPTION:Visita del bisbe Agustí Cortés
URI:https://www.viladepiera.cat/actualitat/agenda/22273-visita-del-bisbe-agusti-cortes.html
CLASS:PUBLIC
END:VEVENT
END:VCALENDAR
