BEGIN:VCALENDAR
VERSION:2.0
CALSCALE:GREGORIAN
PRODID:-//Diputació de Barcelona//DibaCMS//EN
BEGIN:VEVENT
UID:22275
DTSTAMP:20260425T045740
DTSTART:20090213T210000
DTEND:20090213T000000
SUMMARY:Activitats esportives
LOCATION:
METHOD:PUBLISH
X-WR-CALNAME:e-seu@ajpiera.cat
X-WR-TIMEZONE:Europe/Madrid
DESCRIPTION:Activitats esportives
URI:https://www.viladepiera.cat/actualitat/agenda/22275-activitats-esportives.html
CLASS:PUBLIC
END:VEVENT
END:VCALENDAR
