BEGIN:VCALENDAR
VERSION:2.0
CALSCALE:GREGORIAN
PRODID:-//Diputació de Barcelona//DibaCMS//EN
BEGIN:VEVENT
UID:22280
DTSTAMP:20260425T031222
DTSTART:20090217T090000
DTEND:20090217T120000
SUMMARY:Jornada PIMESTIC
LOCATION:
METHOD:PUBLISH
X-WR-CALNAME:e-seu@ajpiera.cat
X-WR-TIMEZONE:Europe/Madrid
DESCRIPTION:Jornada PIMESTIC
URI:https://www.viladepiera.cat/actualitat/agenda/jornada-pimestic.html
CLASS:PUBLIC
END:VEVENT
END:VCALENDAR
