BEGIN:VCALENDAR
VERSION:2.0
CALSCALE:GREGORIAN
PRODID:-//Diputació de Barcelona//DibaCMS//EN
BEGIN:VEVENT
UID:22281
DTSTAMP:20260425T031453
DTSTART:20090219T173000
DTEND:20090219T000000
SUMMARY:El Rei Carnestoltes
LOCATION:
METHOD:PUBLISH
X-WR-CALNAME:e-seu@ajpiera.cat
X-WR-TIMEZONE:Europe/Madrid
DESCRIPTION:El Rei Carnestoltes
URI:https://www.viladepiera.cat/actualitat/agenda/el-rei-carnestoltes.html
CLASS:PUBLIC
END:VEVENT
END:VCALENDAR
