BEGIN:VCALENDAR
VERSION:2.0
CALSCALE:GREGORIAN
PRODID:-//Diputació de Barcelona//DibaCMS//EN
BEGIN:VEVENT
UID:22282
DTSTAMP:20260425T031405
DTSTART:20090220T173000
DTEND:20090220T000000
SUMMARY:Rua de les llars d'infants
LOCATION:
METHOD:PUBLISH
X-WR-CALNAME:e-seu@ajpiera.cat
X-WR-TIMEZONE:Europe/Madrid
DESCRIPTION:Rua de les llars d'infants
URI:https://www.viladepiera.cat/actualitat/agenda/rua-de-les-llars-dinfants.html
CLASS:PUBLIC
END:VEVENT
END:VCALENDAR
