BEGIN:VCALENDAR
VERSION:2.0
CALSCALE:GREGORIAN
PRODID:-//Diputació de Barcelona//DibaCMS//EN
BEGIN:VEVENT
UID:22283
DTSTAMP:20260425T031653
DTSTART:20090220T190000
DTEND:20090220T000000
SUMMARY:Reunió ping-pong
LOCATION:
METHOD:PUBLISH
X-WR-CALNAME:e-seu@ajpiera.cat
X-WR-TIMEZONE:Europe/Madrid
DESCRIPTION:Reunió ping-pong
URI:https://www.viladepiera.cat/actualitat/agenda/reunio-ping-pong.html
CLASS:PUBLIC
END:VEVENT
END:VCALENDAR
