BEGIN:VCALENDAR
VERSION:2.0
CALSCALE:GREGORIAN
PRODID:-//Diputació de Barcelona//DibaCMS//EN
BEGIN:VEVENT
UID:22284
DTSTAMP:20260425T005509
DTSTART:20090221T210000
DTEND:20090221T000000
SUMMARY:Rua de Carnaval
LOCATION:
METHOD:PUBLISH
X-WR-CALNAME:e-seu@ajpiera.cat
X-WR-TIMEZONE:Europe/Madrid
DESCRIPTION:Rua de Carnaval
URI:https://www.viladepiera.cat/actualitat/agenda/rua-de-carnaval.html
CLASS:PUBLIC
END:VEVENT
END:VCALENDAR
