BEGIN:VCALENDAR
VERSION:2.0
CALSCALE:GREGORIAN
PRODID:-//Diputació de Barcelona//DibaCMS//EN
BEGIN:VEVENT
UID:22288
DTSTAMP:20260425T005719
DTSTART:20090224T190000
DTEND:20090224T000000
SUMMARY:El Cinema que no hem d'oblidar
LOCATION:
METHOD:PUBLISH
X-WR-CALNAME:e-seu@ajpiera.cat
X-WR-TIMEZONE:Europe/Madrid
DESCRIPTION:El Cinema que no hem d'oblidar
URI:https://www.viladepiera.cat/actualitat/agenda/el-cinema-que-no-hem-doblidar.html
CLASS:PUBLIC
END:VEVENT
END:VCALENDAR
