BEGIN:VCALENDAR
VERSION:2.0
CALSCALE:GREGORIAN
PRODID:-//Diputació de Barcelona//DibaCMS//EN
BEGIN:VEVENT
UID:22290
DTSTAMP:20260425T020523
DTSTART:20090226T180000
DTEND:20090226T000000
SUMMARY:Contes per rumiar
LOCATION:
METHOD:PUBLISH
X-WR-CALNAME:e-seu@ajpiera.cat
X-WR-TIMEZONE:Europe/Madrid
DESCRIPTION:Contes per rumiar
URI:https://www.viladepiera.cat/actualitat/agenda/contes-per-rumiar.html
CLASS:PUBLIC
END:VEVENT
END:VCALENDAR
