BEGIN:VCALENDAR
VERSION:2.0
CALSCALE:GREGORIAN
PRODID:-//Diputació de Barcelona//DibaCMS//EN
BEGIN:VEVENT
UID:22293
DTSTAMP:20260425T041709
DTSTART:20090228T130000
DTEND:20090228T000000
SUMMARY:Concurs de Salsa de Calçots
LOCATION:
METHOD:PUBLISH
X-WR-CALNAME:e-seu@ajpiera.cat
X-WR-TIMEZONE:Europe/Madrid
DESCRIPTION:Concurs de Salsa de Calçots
URI:https://www.viladepiera.cat/actualitat/agenda/concurs-de-salsa-de-calcots.html
CLASS:PUBLIC
END:VEVENT
END:VCALENDAR
