BEGIN:VCALENDAR
VERSION:2.0
CALSCALE:GREGORIAN
PRODID:-//Diputació de Barcelona//DibaCMS//EN
BEGIN:VEVENT
UID:22295
DTSTAMP:20260425T012318
DTSTART:20090228T230000
DTEND:20090228T000000
SUMMARY:Gran Ball de disfresses
LOCATION:
METHOD:PUBLISH
X-WR-CALNAME:e-seu@ajpiera.cat
X-WR-TIMEZONE:Europe/Madrid
DESCRIPTION:Gran Ball de disfresses
URI:https://www.viladepiera.cat/actualitat/agenda/gran-ball-de-disfresses.html
CLASS:PUBLIC
END:VEVENT
END:VCALENDAR
