BEGIN:VCALENDAR
VERSION:2.0
CALSCALE:GREGORIAN
PRODID:-//Diputació de Barcelona//DibaCMS//EN
BEGIN:VEVENT
UID:22300
DTSTAMP:20260425T011231
DTSTART:20090305T190000
DTEND:20090305T000000
SUMMARY:Herbes de la saviesa
LOCATION:
METHOD:PUBLISH
X-WR-CALNAME:e-seu@ajpiera.cat
X-WR-TIMEZONE:Europe/Madrid
DESCRIPTION:Herbes de la saviesa
URI:https://www.viladepiera.cat/actualitat/agenda/herbes-de-la-saviesa.html
CLASS:PUBLIC
END:VEVENT
END:VCALENDAR
