BEGIN:VCALENDAR
VERSION:2.0
CALSCALE:GREGORIAN
PRODID:-//Diputació de Barcelona//DibaCMS//EN
BEGIN:VEVENT
UID:22305
DTSTAMP:20260425T032916
DTSTART:20090308T120000
DTEND:20090308T000000
SUMMARY:Dia d'Andalusia a Can Canals
LOCATION:
METHOD:PUBLISH
X-WR-CALNAME:e-seu@ajpiera.cat
X-WR-TIMEZONE:Europe/Madrid
DESCRIPTION:Dia d'Andalusia a Can Canals
URI:https://www.viladepiera.cat/actualitat/agenda/dia-dandalusia-a-can-canals.html
CLASS:PUBLIC
END:VEVENT
END:VCALENDAR
