BEGIN:VCALENDAR
VERSION:2.0
CALSCALE:GREGORIAN
PRODID:-//Diputació de Barcelona//DibaCMS//EN
BEGIN:VEVENT
UID:22306
DTSTAMP:20260425T031417
DTSTART:20090308T183000
DTEND:20090308T000000
SUMMARY:Cinema: Agua
LOCATION:
METHOD:PUBLISH
X-WR-CALNAME:e-seu@ajpiera.cat
X-WR-TIMEZONE:Europe/Madrid
DESCRIPTION:Cinema: Agua
URI:https://www.viladepiera.cat/actualitat/agenda/cinema-agua.html
CLASS:PUBLIC
END:VEVENT
END:VCALENDAR
