BEGIN:VCALENDAR
VERSION:2.0
CALSCALE:GREGORIAN
PRODID:-//Diputació de Barcelona//DibaCMS//EN
BEGIN:VEVENT
UID:22310
DTSTAMP:20260425T045607
DTSTART:20090312T193000
DTEND:20090312T000000
SUMMARY:Molt més que minoria absoluta
LOCATION:
METHOD:PUBLISH
X-WR-CALNAME:e-seu@ajpiera.cat
X-WR-TIMEZONE:Europe/Madrid
DESCRIPTION:Molt més que minoria absoluta
URI:https://www.viladepiera.cat/actualitat/agenda/molt-mes-que-minoria-absoluta.html
CLASS:PUBLIC
END:VEVENT
END:VCALENDAR
