BEGIN:VCALENDAR
VERSION:2.0
CALSCALE:GREGORIAN
PRODID:-//Diputació de Barcelona//DibaCMS//EN
BEGIN:VEVENT
UID:22318
DTSTAMP:20260425T044915
DTSTART:20090319T170000
DTEND:20090319T000000
SUMMARY:Presentació projecte Casal
LOCATION:
METHOD:PUBLISH
X-WR-CALNAME:e-seu@ajpiera.cat
X-WR-TIMEZONE:Europe/Madrid
DESCRIPTION:Presentació projecte Casal
URI:https://www.viladepiera.cat/actualitat/agenda/presentacio-projecte-casal.html
CLASS:PUBLIC
END:VEVENT
END:VCALENDAR
