BEGIN:VCALENDAR
VERSION:2.0
CALSCALE:GREGORIAN
PRODID:-//Diputació de Barcelona//DibaCMS//EN
BEGIN:VEVENT
UID:22322
DTSTAMP:20260425T012552
DTSTART:20090322T170000
DTEND:20090322T000000
SUMMARY:Trobada de famílies
LOCATION:
METHOD:PUBLISH
X-WR-CALNAME:e-seu@ajpiera.cat
X-WR-TIMEZONE:Europe/Madrid
DESCRIPTION:Trobada de famílies
URI:https://www.viladepiera.cat/actualitat/agenda/trobada-de-families.html
CLASS:PUBLIC
END:VEVENT
END:VCALENDAR
