BEGIN:VCALENDAR
VERSION:2.0
CALSCALE:GREGORIAN
PRODID:-//Diputació de Barcelona//DibaCMS//EN
BEGIN:VEVENT
UID:22324
DTSTAMP:20260425T033159
DTSTART:20090323T000000
DTEND:20090323T000000
SUMMARY:Tai-txi
LOCATION:
METHOD:PUBLISH
X-WR-CALNAME:e-seu@ajpiera.cat
X-WR-TIMEZONE:Europe/Madrid
DESCRIPTION:Tai-txi
URI:https://www.viladepiera.cat/actualitat/agenda/tai-txi.html
CLASS:PUBLIC
END:VEVENT
END:VCALENDAR
