BEGIN:VCALENDAR
VERSION:2.0
CALSCALE:GREGORIAN
PRODID:-//Diputació de Barcelona//DibaCMS//EN
BEGIN:VEVENT
UID:22327
DTSTAMP:20260425T045126
DTSTART:20090325T210000
DTEND:20090325T000000
SUMMARY:Ple Ordinari
LOCATION:
METHOD:PUBLISH
X-WR-CALNAME:e-seu@ajpiera.cat
X-WR-TIMEZONE:Europe/Madrid
DESCRIPTION:Ple Ordinari
URI:https://www.viladepiera.cat/actualitat/agenda/22327-ple-ordinari.html
CLASS:PUBLIC
END:VEVENT
END:VCALENDAR
