BEGIN:VCALENDAR
VERSION:2.0
CALSCALE:GREGORIAN
PRODID:-//Diputació de Barcelona//DibaCMS//EN
BEGIN:VEVENT
UID:22328
DTSTAMP:20260425T042210
DTSTART:20090326T180000
DTEND:20090326T000000
SUMMARY:El follet pastisser
LOCATION:
METHOD:PUBLISH
X-WR-CALNAME:e-seu@ajpiera.cat
X-WR-TIMEZONE:Europe/Madrid
DESCRIPTION:El follet pastisser
URI:https://www.viladepiera.cat/actualitat/agenda/el-follet-pastisser.html
CLASS:PUBLIC
END:VEVENT
END:VCALENDAR
