BEGIN:VCALENDAR
VERSION:2.0
CALSCALE:GREGORIAN
PRODID:-//Diputació de Barcelona//DibaCMS//EN
BEGIN:VEVENT
UID:22329
DTSTAMP:20260425T054437
DTSTART:20090327T193000
DTEND:20090327T000000
SUMMARY:Sessió informativa Llei de Barris
LOCATION:
METHOD:PUBLISH
X-WR-CALNAME:e-seu@ajpiera.cat
X-WR-TIMEZONE:Europe/Madrid
DESCRIPTION:Sessió informativa Llei de Barris
URI:https://www.viladepiera.cat/actualitat/agenda/sessio-informativa-llei-de-barris.html
CLASS:PUBLIC
END:VEVENT
END:VCALENDAR
