BEGIN:VCALENDAR
VERSION:2.0
CALSCALE:GREGORIAN
PRODID:-//Diputació de Barcelona//DibaCMS//EN
BEGIN:VEVENT
UID:22338
DTSTAMP:20260425T031627
DTSTART:20090330T200000
DTEND:20090330T000000
SUMMARY:Jornades quaresmals
LOCATION:
METHOD:PUBLISH
X-WR-CALNAME:e-seu@ajpiera.cat
X-WR-TIMEZONE:Europe/Madrid
DESCRIPTION:Jornades quaresmals
URI:https://www.viladepiera.cat/actualitat/agenda/jornades-quaresmals.html
CLASS:PUBLIC
END:VEVENT
END:VCALENDAR
