BEGIN:VCALENDAR
VERSION:2.0
CALSCALE:GREGORIAN
PRODID:-//Diputació de Barcelona//DibaCMS//EN
BEGIN:VEVENT
UID:22339
DTSTAMP:20260425T020425
DTSTART:20090403T200000
DTEND:20090403T000000
SUMMARY:Presentació de la Llei d'Urbanitzacions
LOCATION:
METHOD:PUBLISH
X-WR-CALNAME:e-seu@ajpiera.cat
X-WR-TIMEZONE:Europe/Madrid
DESCRIPTION:Presentació de la Llei d'Urbanitzacions
URI:https://www.viladepiera.cat/actualitat/agenda/22339-presentacio-de-la-llei-durbanitzacions.html
CLASS:PUBLIC
END:VEVENT
END:VCALENDAR
