BEGIN:VCALENDAR
VERSION:2.0
CALSCALE:GREGORIAN
PRODID:-//Diputació de Barcelona//DibaCMS//EN
BEGIN:VEVENT
UID:22345
DTSTAMP:20260425T031606
DTSTART:20090407T180000
DTEND:20090407T000000
SUMMARY:Hàbits alimentaris al segle XXI, un repte?
LOCATION:
METHOD:PUBLISH
X-WR-CALNAME:e-seu@ajpiera.cat
X-WR-TIMEZONE:Europe/Madrid
DESCRIPTION:Hàbits alimentaris al segle XXI, un repte?
URI:https://www.viladepiera.cat/actualitat/agenda/habits-alimentaris-al-segle-xxi-un-repte.html
CLASS:PUBLIC
END:VEVENT
END:VCALENDAR
