BEGIN:VCALENDAR
VERSION:2.0
CALSCALE:GREGORIAN
PRODID:-//Diputació de Barcelona//DibaCMS//EN
BEGIN:VEVENT
UID:22347
DTSTAMP:20260424T215214
DTSTART:20090412T183000
DTEND:20090412T000000
SUMMARY:Cinèfils: Cercant la felicitat
LOCATION:
METHOD:PUBLISH
X-WR-CALNAME:e-seu@ajpiera.cat
X-WR-TIMEZONE:Europe/Madrid
DESCRIPTION:Cinèfils: Cercant la felicitat
URI:https://www.viladepiera.cat/actualitat/agenda/cinefils-cercant-la-felicitat.html
CLASS:PUBLIC
END:VEVENT
END:VCALENDAR
