BEGIN:VCALENDAR
VERSION:2.0
CALSCALE:GREGORIAN
PRODID:-//Diputació de Barcelona//DibaCMS//EN
BEGIN:VEVENT
UID:22348
DTSTAMP:20260425T001439
DTSTART:20090414T180000
DTEND:20090414T000000
SUMMARY:Seguretat, domicilis i estafes
LOCATION:
METHOD:PUBLISH
X-WR-CALNAME:e-seu@ajpiera.cat
X-WR-TIMEZONE:Europe/Madrid
DESCRIPTION:Seguretat, domicilis i estafes
URI:https://www.viladepiera.cat/actualitat/agenda/seguretat-domicilis-i-estafes.html
CLASS:PUBLIC
END:VEVENT
END:VCALENDAR
