BEGIN:VCALENDAR
VERSION:2.0
CALSCALE:GREGORIAN
PRODID:-//Diputació de Barcelona//DibaCMS//EN
BEGIN:VEVENT
UID:22356
DTSTAMP:20260425T011126
DTSTART:20090422T180000
DTEND:20090422T000000
SUMMARY:Publicitat enganyosa 
LOCATION:
METHOD:PUBLISH
X-WR-CALNAME:e-seu@ajpiera.cat
X-WR-TIMEZONE:Europe/Madrid
DESCRIPTION:Publicitat enganyosa 
URI:https://www.viladepiera.cat/actualitat/agenda/publicitat-enganyosa-.html
CLASS:PUBLIC
END:VEVENT
END:VCALENDAR
