BEGIN:VCALENDAR
VERSION:2.0
CALSCALE:GREGORIAN
PRODID:-//Diputació de Barcelona//DibaCMS//EN
BEGIN:VEVENT
UID:22357
DTSTAMP:20260424T210401
DTSTART:20090423T200000
DTEND:20090423T000000
SUMMARY:Josep Mata i Balart
LOCATION:
METHOD:PUBLISH
X-WR-CALNAME:e-seu@ajpiera.cat
X-WR-TIMEZONE:Europe/Madrid
DESCRIPTION:Josep Mata i Balart
URI:https://www.viladepiera.cat/actualitat/agenda/josep-mata-i-balart.html
CLASS:PUBLIC
END:VEVENT
END:VCALENDAR
