BEGIN:VCALENDAR
VERSION:2.0
CALSCALE:GREGORIAN
PRODID:-//Diputació de Barcelona//DibaCMS//EN
BEGIN:VEVENT
UID:22359
DTSTAMP:20260425T011200
DTSTART:20090424T200000
DTEND:20090424T000000
SUMMARY:Piera-Torrelavit
LOCATION:
METHOD:PUBLISH
X-WR-CALNAME:e-seu@ajpiera.cat
X-WR-TIMEZONE:Europe/Madrid
DESCRIPTION:Piera-Torrelavit
URI:https://www.viladepiera.cat/actualitat/agenda/piera-torrelavit.html
CLASS:PUBLIC
END:VEVENT
END:VCALENDAR
